BEGIN:VCALENDAR
PRODID:-//Microsoft Corporation//Outlook 12.0 MIMEDIR//EN
VERSION:2.0
METHOD:PUBLISH
X-MS-OLK-FORCEINSPECTOROPEN:TRUE
BEGIN:VEVENT
CLASS:PUBLIC
CREATED:20091109T101015Z
DESCRIPTION:<p>Bring dein Pl&uuml;schtier am Freitagabend um 19.00 Uhr vorbei. Es schl&auml;ft ohne dich in der Bibliothek, evtl. zusammen mit vielen anderen Pl&uuml;schtieren.</p>
<p>Am Samstagmorgen um 10.00 Uhr darfst du dein Pl&uuml;schtier wieder abholen und ein kleines "Zn&uuml;ni" geniessen.</p>
<p>Sei gespannt, was dein Pl&uuml;schtier so alles in der Bibliothek erleben wird!</p>
DTEND:20260606T090000
DTSTAMP:20091109T093305
DTSTART:20260606T190000
LAST-MODIFIED:20091109T101015
LOCATION:Bibliothek Regio Koppigen / Juraweg 4, 3425 Koppigen
PRIORITY:5
SEQUENCE:0
SUMMARY;LANGUAGE=en-us:Plüschtier-Abend
TRANSP:OPAQUE
UID:040000008200E00074C5B7101A82E008000000008062306C6261CA01000000000000000
X-MICROSOFT-CDO-BUSYSTATUS:BUSY
X-MICROSOFT-CDO-IMPORTANCE:1
X-MICROSOFT-DISALLOW-COUNTER:FALSE
X-MS-OLK-ALLOWEXTERNCHECK:TRUE
X-MS-OLK-AUTOFILLLOCATION:FALSE
X-MS-OLK-CONFTYPE:0
BEGIN:VALARM
TRIGGER:-PT1440M
ACTION:DISPLAY
DESCRIPTION:Reminder
END:VALARM
END:VEVENT
END:VCALENDAR
