BEGIN:VCALENDAR
PRODID:-//Microsoft Corporation//Outlook 12.0 MIMEDIR//EN
VERSION:2.0
METHOD:PUBLISH
X-MS-OLK-FORCEINSPECTOROPEN:TRUE
BEGIN:VEVENT
CLASS:PUBLIC
CREATED:20091109T101015Z
DESCRIPTION:<p>Der Kurs f&uuml;r sicheres Handeln in Notfallsituationen bei Kleinkindern. Im Kurs Notf&auml;lle bei Kleinkindern erlernen Sie sicheres Handlen im Umgang mit Kindern in Notfallsituationen. Insbesondere liegt der Fokus des Kurses auf dem korrekten Vorgehen und der Anwendung von Erstehilfe-Massnhamen bei ansprechbaren, wie auch bewusstlosen oder leblosen Kindern.</p>
<p><strong>Anmeldung unter:</strong>&nbsp;<a style="font-family: Aptos, sans-serif; font-size: 12pt;" href="https://oms.ivr-ias.ch/OMS/courselist.xhtml?hl=de-DE&amp;course=183371">https://oms.ivr-ias.ch/OMS/courselist.xhtml?hl=de-DE&amp;course=183371</a></p>
<p>Ehepaare: Fr. 290.00</p>
<p>Zahlung: Vor Ort bar oder via TWINT</p>
<p>Hinweis: Die Best&auml;tigungsemail k&ouml;nnte im Spam-Ordner landen</p>
<p>Mittagspause: 1 Stunde (Verpflegungsm&ouml;glichkeiten im Dorf vorhanden)</p>
<p>Weitere Informationen folgen kurz vor Kursbeginn per E-Mail.</p>
DTEND:20261107T161500
DTSTAMP:20091109T093305
DTSTART:20261107T090000
LAST-MODIFIED:20091109T101015
LOCATION:Altes Schulhaus / Hauptstrasse 12, 3425 Koppigen
PRIORITY:5
SEQUENCE:0
SUMMARY;LANGUAGE=en-us:Notfälle bei Kleinkindern
TRANSP:OPAQUE
UID:040000008200E00074C5B7101A82E008000000008062306C6261CA01000000000000000
X-MICROSOFT-CDO-BUSYSTATUS:BUSY
X-MICROSOFT-CDO-IMPORTANCE:1
X-MICROSOFT-DISALLOW-COUNTER:FALSE
X-MS-OLK-ALLOWEXTERNCHECK:TRUE
X-MS-OLK-AUTOFILLLOCATION:FALSE
X-MS-OLK-CONFTYPE:0
BEGIN:VALARM
TRIGGER:-PT1440M
ACTION:DISPLAY
DESCRIPTION:Reminder
END:VALARM
END:VEVENT
END:VCALENDAR
